BEGIN:VCALENDAR
VERSION:2.0
PRODID:-//eventon.com NONSGML v1.0//EN
CALSCALE:GREGORIAN
METHOD:PUBLISH
BEGIN:VEVENT
UID:69e5f50433614
DTSTAMP:20260420T094228Z
DTSTART:20230903T210000Z
DTEND:20230903T230000Z
LOCATION:Pine Lawn at Costanoa 2001 Rossi Road
SUMMARY:LABOR DAY CELEBRATION LAWN GAMES
DESCRIPTION:Labor Day Celebration Lawn Games Come to the Pine Tent Lawn for
  an afternoon of activities and lawn games such as sack races and balloon o
 bstacle course\,  etc.  TIME:  2:00 pm WHERE: Pine Tent Lawn AGES:  All 
 ages COST: Activities and games are Free\,  Popcorn Free\,  and Sno Cones $
 2.\nhttps://www.costanoa.com/blog/events/labor-day-celebration-lawn-games/
URL:https://www.costanoa.com/blog/events/labor-day-celebration-lawn-games/
END:VEVENT
END:VCALENDAR