BEGIN:VCALENDAR
VERSION:2.0
PRODID:-//eventon.com NONSGML v1.0//EN
CALSCALE:GREGORIAN
METHOD:PUBLISH
BEGIN:VEVENT
UID:69e4c7041ee70
DTSTAMP:20260419T121356Z
DTSTART:20250621T173000Z
DTEND:20250621T190000Z
LOCATION:Activities at Costanoa 2001 Rossi Road
SUMMARY:BEADED BRACELET MAKING
DESCRIPTION:BEADED BRACELETS MAKING Come create a fun\,  colorful beaded br
 acelet for yourself or to share with someone you love&#8230;or even for you
 r pet! TIME:  10:30am WHERE: Activities Pod AGES:  All ages COST: $10\nht
 tps://www.costanoa.com/blog/events/bead-necklaces-bracelets-4/
URL:https://www.costanoa.com/blog/events/bead-necklaces-bracelets-4/
END:VEVENT
END:VCALENDAR