BEGIN:VCALENDAR
VERSION:2.0
PRODID:-//eventon.com NONSGML v1.0//EN
CALSCALE:GREGORIAN
METHOD:PUBLISH
BEGIN:VEVENT
UID:69e6213ae57c2
DTSTAMP:20260420T125106Z
DTSTART:20220911
DTEND:20220912
LOCATION:Santa Cruz Wharf 21 Municipal Wharf
SUMMARY:IRONMAN 70.3 SANTA CRUZ
DESCRIPTION:7th Annual Ironman 70.3 Santa Cruz The Ironman 70.3 Santa Cruz 
 consists of a 1.2 mile swim\,  a 56-mile bike ride\,  and a 13.1 mile run. 
 Highway 1 will be impacted from 6 AM to 2 PM for the bike ride\,  from Sant
 a Cruz to Pigeon Point.\nhttps://www.costanoa.com/blog/events/ironman-70-3-
 santa-cruz/
URL:https://www.costanoa.com/blog/events/ironman-70-3-santa-cruz/
END:VEVENT
END:VCALENDAR