BEGIN:VCALENDAR
VERSION:2.0
PRODID:-//eventon.com NONSGML v1.0//EN
CALSCALE:GREGORIAN
METHOD:PUBLISH
BEGIN:VEVENT
UID:69e761c39bd7a
DTSTAMP:20260421T113843Z
DTSTART:20230629T200000Z
DTEND:20230629T210000Z
LOCATION:Activities at Costanoa 2001 Rossi Road
SUMMARY:BACKPACK WORKSHOP STENCILING CRAFT
DESCRIPTION:BACKPACK STENCILING CRAFT Come with your passion for color and 
 patterns. We will be stenciling our Canvas Backpacks!  TIME:  1 pm WHERE:
  Activities Pod AGES:  All ages COST: $20 per Canvas Backpack\nhttps://www
 .costanoa.com/blog/events/stenciling-craft-7/
URL:https://www.costanoa.com/blog/events/stenciling-craft-7/
END:VEVENT
END:VCALENDAR