BEGIN:VCALENDAR
VERSION:2.0
PRODID:-//eventon.com NONSGML v1.0//EN
CALSCALE:GREGORIAN
METHOD:PUBLISH
BEGIN:VEVENT
UID:69e8de83bb653
DTSTAMP:20260422T144315Z
DTSTART:20260419T170000Z
DTEND:20260419T183000Z
LOCATION:Activities at Costanoa 2001 Rossi Road
SUMMARY:Falconry Presentation with Kenny Elvin
DESCRIPTION:Falconry Presentation with Kenny Elvin Enjoy a morning of fligh
 t presentations\,  natural history and the chance to meet hawks\,  falcons\
 ,  owls and more up close and personal. The show lasts about 40 minutes. Af
 ter the demonstration\,  Kenny will hang out and answer questions\,  and fo
 lks can take pictures of a[..]\nhttps://www.costanoa.com/blog/events/falcon
 ry-presentation-with-kenny-elvin-3/
URL:https://www.costanoa.com/blog/events/falconry-presentation-with-kenny-elvin-3/
END:VEVENT
END:VCALENDAR