BEGIN:VCALENDAR
VERSION:2.0
PRODID:-//eventon.com NONSGML v1.0//EN
CALSCALE:GREGORIAN
METHOD:PUBLISH
BEGIN:VEVENT
UID:69e8b0e68793a
DTSTAMP:20260422T112838Z
DTSTART:20221029T000000Z
DTEND:20221029T033000Z
LOCATION:Pine Tent at Costanoa 2001 Rossi Road
SUMMARY:Music with travl'r
DESCRIPTION:Music with travl&#8217;r at Pine Tent travl&#8217;r is a musici
 an\,  engineer\,  and a creator. He has Bachelors and Masters degrees in Me
 chanical Engineering and Sustainability. Fascinated by the intersection of 
 science and everyday life\,  travl&#8217;r explores the boundary of sound a
 nd its connection to our everyday lives. He has spent[..]\nhttps://www.cost
 anoa.com/blog/events/music-with-travlr/
URL:https://www.costanoa.com/blog/events/music-with-travlr/
END:VEVENT
END:VCALENDAR