BEGIN:VCALENDAR
VERSION:2.0
PRODID:-//eventon.com NONSGML v1.0//EN
CALSCALE:GREGORIAN
METHOD:PUBLISH
BEGIN:VEVENT
UID:69e5f487be1f8
DTSTAMP:20260420T094023Z
DTSTART:20221111
DTEND:20221112
LOCATION:Costanoa 2001 Rossi Road
SUMMARY:Veterans Day
DESCRIPTION:Veterans Day is a public holiday held on the anniversary of the
  end of World War I\,  on November 11\,  to honor US veterans and victims
  of all wars. This holiday is a celebration to honor America&#8217;s veter
 ans for their patriotism\,  love of country\,  and willingness to serve an
 d sacrifice for the common good.[..]\nhttps://www.costanoa.com/blog/events/
 veterans-day/
URL:https://www.costanoa.com/blog/events/veterans-day/
END:VEVENT
END:VCALENDAR