BEGIN:VCALENDAR
VERSION:2.0
PRODID:-//eventon.com NONSGML v1.0//EN
CALSCALE:GREGORIAN
METHOD:PUBLISH
BEGIN:VEVENT
UID:69e4c9197d9ba
DTSTAMP:20260419T122249Z
DTSTART:20221203T210000Z
DTEND:20221203T223000Z
LOCATION:Activities at Costanoa 2001 Rossi Road
SUMMARY:Tie Dye! - Canceled due to weather
DESCRIPTION:Tie Dye at Costanoa! It wouldn’t be a Central Coast visit wit
 hout a little tie dye awesomeness. Harness your inner hippy and create some
 thing groovy with this tie dye workshop. Purchase apparel and accessories a
 t the Activities Pod and get ready to twist and tie! Weather permitting.  
 TIME:  1 pm[..]\nhttps://www.costanoa.com/blog/events/tie-dye-3/var/ri-1.l
 -L1
URL:https://www.costanoa.com/blog/events/tie-dye-3/var/ri-1.l-L1
END:VEVENT
END:VCALENDAR