BEGIN:VCALENDAR
VERSION:2.0
PRODID:-//eventon.com NONSGML v1.0//EN
CALSCALE:GREGORIAN
METHOD:PUBLISH
BEGIN:VEVENT
UID:69e61e6c2dfd1
DTSTAMP:20260420T123908Z
DTSTART:20221217T180000Z
DTEND:20221217T210000Z
LOCATION:Horse Stables 2001 Rossi Rd
SUMMARY:Horseback Riding at Costanoa canceled due to weather/conditions
DESCRIPTION:Horseback Riding at Costanoa canceled due to weather/conditions
  Horseback riding is now available at Costanoa! Wrangler Heather and her tr
 ained team offer several different rides depending on ability and experienc
 e. The total time for each experience is as follows: 15 minute lead-line ri
 de for younger riders with a brief equine[..]\nhttps://www.costanoa.com/blo
 g/events/horseback-riding-at-costanoa-8/var/ri-1.l-L1
URL:https://www.costanoa.com/blog/events/horseback-riding-at-costanoa-8/var/ri-1.l-L1
END:VEVENT
END:VCALENDAR