BEGIN:VCALENDAR
VERSION:2.0
PRODID:-//eventon.com NONSGML v1.0//EN
CALSCALE:GREGORIAN
METHOD:PUBLISH
BEGIN:VEVENT
UID:69e6340cbab5c
DTSTAMP:20260420T141124Z
DTSTART:20230209
DTEND:20230210
LOCATION:Costanoa 2001 Rossi Road
SUMMARY:The BEST of planetary conjunctions now shaping up
DESCRIPTION:A dramatic\,  spectacular conjunction of the two brightest plan
 ets\,  Venus &amp; Jupiter\,  will appear closest to each other right aroun
 d the 1st of March. In these coming days &amp; weeks until then\,  WATCH on
  as many clear evenings as you can\,  as the two brilliant white dots move 
 closer to[..]\nhttps://www.costanoa.com/blog/events/the-best-of-planetary-c
 onjunctions-now-shaping-up/
URL:https://www.costanoa.com/blog/events/the-best-of-planetary-conjunctions-now-shaping-up/
END:VEVENT
END:VCALENDAR