BEGIN:VCALENDAR
VERSION:2.0
PRODID:-//eventon.com NONSGML v1.0//EN
CALSCALE:GREGORIAN
METHOD:PUBLISH
BEGIN:VEVENT
UID:69e4dab3b45cb
DTSTAMP:20260419T133755Z
DTSTART:20230312T170000Z
DTEND:20230312T190000Z
LOCATION:Activities at Costanoa 2001 Rossi Road
SUMMARY:BIRDHOUSE PAINTING
DESCRIPTION:BIRDHOUSE PAINTING Come join us in decorating your very own bir
 dhouse for our feathered friends! This is one of our most popular workshops
  for kids. TIME:  10 am WHERE: Activities Pod (weather permitting) AGES: 
  All ages COST: $20 per birdhouse\nhttps://www.costanoa.com/blog/events/bir
 dhouse-painting-9/var/ri-1.l-L1
URL:https://www.costanoa.com/blog/events/birdhouse-painting-9/var/ri-1.l-L1
END:VEVENT
END:VCALENDAR