BEGIN:VCALENDAR
VERSION:2.0
PRODID:-//eventon.com NONSGML v1.0//EN
CALSCALE:GREGORIAN
METHOD:PUBLISH
BEGIN:VEVENT
UID:69e61f8ad4c23
DTSTAMP:20260420T124354Z
DTSTART:20230401T230000Z
DTEND:20230402T020000Z
LOCATION:Pine Tent at Costanoa 2001 Rossi Road
SUMMARY:Live Music Canceled
DESCRIPTION:Live Music with Finians Call has been canceled this weekend\nht
 tps://www.costanoa.com/blog/events/live-music-with-finians-call-4/
URL:https://www.costanoa.com/blog/events/live-music-with-finians-call-4/
END:VEVENT
END:VCALENDAR