BEGIN:VCALENDAR
VERSION:2.0
PRODID:-//eventon.com NONSGML v1.0//EN
CALSCALE:GREGORIAN
METHOD:PUBLISH
BEGIN:VEVENT
UID:69e73c04e1b2e
DTSTAMP:20260421T085740Z
DTSTART:20230408T230000Z
DTEND:20230409T020000Z
LOCATION:Pine Tent at Costanoa 2001 Rossi Road
SUMMARY:Live Music with Lauren Wahl
DESCRIPTION:Live Music with Lauren Wahl at Pine Tent Lauren Wahl is a singe
 r-songwriter from Santa Cruz\,  California with a clear\,  pure voice and a
  songwriting style that bridges multiple genres and reflectively maps the h
 uman condition. Elements of folk\,  pop\,  rock\,  country and classical in
 fuse her music. &nbsp;\nhttps://www.costanoa.com/blog/events/live-music-wit
 h-lauren-wahl-2/
URL:https://www.costanoa.com/blog/events/live-music-with-lauren-wahl-2/
END:VEVENT
END:VCALENDAR