BEGIN:VCALENDAR
VERSION:2.0
PRODID:-//eventon.com NONSGML v1.0//EN
CALSCALE:GREGORIAN
METHOD:PUBLISH
BEGIN:VEVENT
UID:69e4dee15a236
DTSTAMP:20260419T135545Z
DTSTART:20230806T000000Z
DTEND:20230806T030000Z
LOCATION:Pine Tent at Costanoa 2001 Rossi Road
SUMMARY:Live Music with the EzMotion Band
DESCRIPTION:Live Music with the EzMotion Band at Pine Tent. EzMotion Band 
 is a popular\,  fun and engaging San Francisco Bay Area rock &amp; roll dan
 ce cover band. We get people on their feet to a diverse selection of tunes 
 from some of the greatest artists in history and most popular songs[..]\nht
 tps://www.costanoa.com/blog/events/live-music-with-the-ezmotion-band-3/
URL:https://www.costanoa.com/blog/events/live-music-with-the-ezmotion-band-3/
END:VEVENT
END:VCALENDAR