BEGIN:VCALENDAR
VERSION:2.0
PRODID:-//eventon.com NONSGML v1.0//EN
CALSCALE:GREGORIAN
METHOD:PUBLISH
BEGIN:VEVENT
UID:69e4c873a382d
DTSTAMP:20260419T122003Z
DTSTART:20230409T173000Z
DTEND:20230409T180000Z
LOCATION:Costanoa 2001 Rossi Road
SUMMARY:EASTER EGG HUNT
DESCRIPTION:Come for a traditional Easter Egg Hunt on the Cascade Lawn. Chi
 ldren will be divided into several age groups to hunt for eggs. TIME: 10:30
  am WHERE: Cascade Lawn AGES: 2 &#8211; 12 years old COST: Free &nbsp;\nhtt
 ps://www.costanoa.com/blog/events/easter-egg-hunt/
URL:https://www.costanoa.com/blog/events/easter-egg-hunt/
END:VEVENT
END:VCALENDAR