BEGIN:VCALENDAR
VERSION:2.0
PRODID:-//eventon.com NONSGML v1.0//EN
CALSCALE:GREGORIAN
METHOD:PUBLISH
BEGIN:VEVENT
UID:69e5e144f2956
DTSTAMP:20260420T081812Z
DTSTART:20230903T000000Z
DTEND:20230903T030000Z
LOCATION:Pine Tent at Costanoa 2001 Rossi Road
SUMMARY:Live Music with Blue
DESCRIPTION:Live Music with Blue at Pine Tent. Enjoy the pretty side of roc
 k music with two very talented local players. Geoff Allen and Mark Binion\,
   have been making music together since the early 1970&#8217;s. Both are mu
 lti-instrumentalists and both sing lead\,  backup\,  and harmony. TIME:  5
  pm &#8211; 8 pm[..]\nhttps://www.costanoa.com/blog/events/live-music-with-
 blue-13/
URL:https://www.costanoa.com/blog/events/live-music-with-blue-13/
END:VEVENT
END:VCALENDAR