BEGIN:VCALENDAR
VERSION:2.0
PRODID:-//eventon.com NONSGML v1.0//EN
CALSCALE:GREGORIAN
METHOD:PUBLISH
BEGIN:VEVENT
UID:69e4df7463a9a
DTSTAMP:20260419T135812Z
DTSTART:20230623T203000Z
DTEND:20230623T213000Z
LOCATION:Activities at Costanoa 2001 Rossi Road
SUMMARY:SPIN ART CRAFT
DESCRIPTION:SPIN ART CRAFT Make one of a kind masterpieces as the paper spi
 ns! Show your passion for color and abstract design.  TIME: 1:30 WHERE: Ac
 tivities Pod AGES:  All ages COST: $10 for 3\nhttps://www.costanoa.com/blo
 g/events/spin-art-craft/
URL:https://www.costanoa.com/blog/events/spin-art-craft/
END:VEVENT
END:VCALENDAR