BEGIN:VCALENDAR
VERSION:2.0
PRODID:-//eventon.com NONSGML v1.0//EN
CALSCALE:GREGORIAN
METHOD:PUBLISH
BEGIN:VEVENT
UID:69e5f6259b8d9
DTSTAMP:20260420T094717Z
DTSTART:20230904T000000Z
DTEND:20230904T030000Z
LOCATION:Pine Tent at Costanoa 2001 Rossi Road
SUMMARY:Live Music with The Full Moon Band with Claudia Sue Conrad
DESCRIPTION:Live Music with The Full Moon Band with Claudia Sue Conrad Clau
 dia&#8217;s original songs have been featured on television and radio. Back
 ed by a stellar band\,  Claudia Conrad rocks the hits of iconic Grammy Awar
 d winners\,  Sheryl Crow &amp; The Pretenders. With tight vocal harmonies a
 nd hot grooves this powerful[..]\nhttps://www.costanoa.com/blog/events/live
 -music-with-the-full-moon-band-with-claudia-sue-conrad/
URL:https://www.costanoa.com/blog/events/live-music-with-the-full-moon-band-with-claudia-sue-conrad/
END:VEVENT
END:VCALENDAR