BEGIN:VCALENDAR
VERSION:2.0
PRODID:-//eventon.com NONSGML v1.0//EN
CALSCALE:GREGORIAN
METHOD:PUBLISH
BEGIN:VEVENT
UID:69e4ca3068520
DTSTAMP:20260419T122728Z
DTSTART:20230824T180000Z
DTEND:20230824T190000Z
LOCATION:Activities at Costanoa 2001 Rossi Road
SUMMARY:SUNCATCHER BEADING CRAFT
DESCRIPTION:SUN CATCHER BEADING CRAFT Make a beautiful suncatcher for your 
 window! We have an assortment of beads and crystals to creatively harness t
 he beauty of the sun! Make your home full of rainbows\,  these designs can 
 be used to create vibrant rainbow-like effects in your garden or home windo
 w.  TIME: [..]\nhttps://www.costanoa.com/blog/events/suncatcher-beading-c
 raft/
URL:https://www.costanoa.com/blog/events/suncatcher-beading-craft/
END:VEVENT
END:VCALENDAR