BEGIN:VCALENDAR
VERSION:2.0
PRODID:-//eventon.com NONSGML v1.0//EN
CALSCALE:GREGORIAN
METHOD:PUBLISH
BEGIN:VEVENT
UID:69e627522b0b9
DTSTAMP:20260420T131706Z
DTSTART:20231021T220000Z
DTEND:20231022T000000Z
LOCATION:Costanoa 2001 Rossi Road
SUMMARY:"Ghostanoa" TRICK-or-TREAT
DESCRIPTION:Trick-or-Treat at Costanoa Walk our beautiful property to enjoy
  site-seeing (and candy) throughout multiple locations. We would love to se
 e your costumes! Trick-or-Treating at Costanoa will be Saturday at the  KO
 A Kiosk\,  Activities Pod\,  General Store\,  Cascade\,  Pine Tent\,  and t
 he Lodge Front Desk. Have fun! TIME:  3 pm –[..]\nhttps://www.costanoa.c
 om/blog/events/ghostanoa-trick-or-treat/var/ri-1.l-L1
URL:https://www.costanoa.com/blog/events/ghostanoa-trick-or-treat/var/ri-1.l-L1
END:VEVENT
END:VCALENDAR