BEGIN:VCALENDAR
VERSION:2.0
PRODID:-//eventon.com NONSGML v1.0//EN
CALSCALE:GREGORIAN
METHOD:PUBLISH
BEGIN:VEVENT
UID:69e4c60be9414
DTSTAMP:20260419T120947Z
DTSTART:20241012T220000Z
DTEND:20241012T233000Z
LOCATION:Activities Pod at Costanoa 2001 Rossi Road
SUMMARY:COSTUME PARADE + CONTEST
DESCRIPTION:Halloween Costume Parade + Contest Join us on a walking and bik
 ing costume parade around Costanoa! (Costumes and bikes are not required\, 
  but encouraged!) RV site decoration viewing will also be at this time. Win
 ners will be announced back at the Activities Pod! TIME:  Parade leaves at
  3 pm\,  judging[..]\nhttps://www.costanoa.com/blog/events/creative-costume
 -contest-2/
URL:https://www.costanoa.com/blog/events/creative-costume-contest-2/
END:VEVENT
END:VCALENDAR