BEGIN:VCALENDAR
VERSION:2.0
PRODID:-//eventon.com NONSGML v1.0//EN
CALSCALE:GREGORIAN
METHOD:PUBLISH
BEGIN:VEVENT
UID:69e78b7e5c022
DTSTAMP:20260421T143646Z
DTSTART:20231105T000000Z
DTEND:20231105T030000Z
LOCATION:Pine Tent at Costanoa 2001 Rossi Road
SUMMARY:Live Music with Nigel + Friends
DESCRIPTION:Live Music with Nigel + Friends at Pine Tent Come grab a bite a
 nd beer at our last weekend of Pine Tent for the 2023 season. Enjoy some mu
 sical amusments by a cover band that performs tunes that span the ages! Nig
 el and friends will be playing all of your[..]\nhttps://www.costanoa.com/bl
 og/events/live-music-with-nigel-friends/
URL:https://www.costanoa.com/blog/events/live-music-with-nigel-friends/
END:VEVENT
END:VCALENDAR