BEGIN:VCALENDAR
VERSION:2.0
PRODID:-//eventon.com NONSGML v1.0//EN
CALSCALE:GREGORIAN
METHOD:PUBLISH
BEGIN:VEVENT
UID:69e608f3d8e62
DTSTAMP:20260420T110731Z
DTSTART:20240203T003000Z
DTEND:20240203T013000Z
LOCATION:Activities at Costanoa 2001 Rossi Road
SUMMARY:Welcome Bingo!
DESCRIPTION:WELCOME BINGO! Join us for a classic game of Bingo on the Pine 
 Tent lawn outside the Activities Pod. Great fun for the whole family. Winni
 ng prizes include family-friendly items as well as tasty libations for our 
 21+ players. TIME: 4:30 pm\,  Drop-ins welcome WHERE: Pine Tent Lawn (weath
 er permitting)[..]\nhttps://www.costanoa.com/blog/events/welcome-bingo-9/va
 r/ri-1.l-L1
URL:https://www.costanoa.com/blog/events/welcome-bingo-9/var/ri-1.l-L1
END:VEVENT
END:VCALENDAR