BEGIN:VCALENDAR
VERSION:2.0
PRODID:-//eventon.com NONSGML v1.0//EN
CALSCALE:GREGORIAN
METHOD:PUBLISH
BEGIN:VEVENT
UID:69e5f592c68bf
DTSTAMP:20260420T094450Z
DTSTART:20240316T210000Z
DTEND:20240316T230000Z
LOCATION:Activities at Costanoa 2001 Rossi Road
SUMMARY:Tie Dye!
DESCRIPTION:Tie Dye at Costanoa! It wouldn’t be a Central Coast visit wit
 hout a little tie dye awesomeness. Harness your inner hippy and create some
 thing groovy with this tie dye workshop. Purchase apparel and accessories a
 t the Activities Pod and get ready to twist and tie! Weather permitting.  
 TIME:  2 pm[..]\nhttps://www.costanoa.com/blog/events/tie-dye-copy/
URL:https://www.costanoa.com/blog/events/tie-dye-copy/
END:VEVENT
END:VCALENDAR