BEGIN:VCALENDAR
VERSION:2.0
PRODID:-//eventon.com NONSGML v1.0//EN
CALSCALE:GREGORIAN
METHOD:PUBLISH
BEGIN:VEVENT
UID:69e5f5d92b8e9
DTSTAMP:20260420T094601Z
DTSTART:20240211T013000Z
DTEND:20240211T040000Z
LOCATION:Ranch House 2001 Rossi Road
SUMMARY:Movie Night
DESCRIPTION:MOVIE NIGHT AT COSTANOA Get revved up for Sunday&#8217;s big ga
 me with a sports movie night! Bring a blanket and pillow to the Ranch House
  and cozy up for a showing of LITTLE GIANTS. Free popcorn for all guests an
 d drinks for purchase. Bring your appetite&#8211;we&#8217;ll be hosting a n
 acho[..]\nhttps://www.costanoa.com/blog/events/movie-night-2/
URL:https://www.costanoa.com/blog/events/movie-night-2/
END:VEVENT
END:VCALENDAR