BEGIN:VCALENDAR
VERSION:2.0
PRODID:-//eventon.com NONSGML v1.0//EN
CALSCALE:GREGORIAN
METHOD:PUBLISH
BEGIN:VEVENT
UID:69e4c770773e0
DTSTAMP:20260419T121544Z
DTSTART:20250710T173000Z
DTEND:20250710T183000Z
LOCATION:Activities at Costanoa 2001 Rossi Road
SUMMARY:PAINT POUR
DESCRIPTION:Paint Pour Unleash your inner artist with this mesmerizing acti
 vity! Watch vibrant colors swirl and dance across your canvas as you create
  a one-of-a-kind masterpiece—no experience needed\,  just your imaginatio
 n. TIME:  10:30am WHERE: Activities Pod (weather permitting) AGES:  All a
 ges COST: $15\nhttps://www.costanoa.com/blog/events/presidential-birdhouse-
 painting/
URL:https://www.costanoa.com/blog/events/presidential-birdhouse-painting/
END:VEVENT
END:VCALENDAR