BEGIN:VCALENDAR
VERSION:2.0
PRODID:-//eventon.com NONSGML v1.0//EN
CALSCALE:GREGORIAN
METHOD:PUBLISH
BEGIN:VEVENT
UID:69e61b3197140
DTSTAMP:20260420T122521Z
DTSTART:20240331T173000Z
DTEND:20240331T193000Z
LOCATION:Activities at Costanoa 2001 Rossi Road
SUMMARY:Holiday Spring Wreaths
DESCRIPTION:Holiday Spring Wreaths Join us to create your very own spring w
 reath\,  a fun craft with a spring time twist! Bring the whole family to th
 is fun holiday craft. TIME: 10:30 am WHERE: Activities Pod (weather permitt
 ing) AGES:  Fun for all ages COST:  $10 each\nhttps://www.costanoa.com/bl
 og/events/holiday-spring-wreaths/
URL:https://www.costanoa.com/blog/events/holiday-spring-wreaths/
END:VEVENT
END:VCALENDAR