BEGIN:VCALENDAR
VERSION:2.0
PRODID:-//eventon.com NONSGML v1.0//EN
CALSCALE:GREGORIAN
METHOD:PUBLISH
BEGIN:VEVENT
UID:69e620f7827d7
DTSTAMP:20260420T124959Z
DTSTART:20240317T010000Z
DTEND:20240317T023000Z
LOCATION:Activities at Costanoa 2001 Rossi Road
SUMMARY:Family Treasure Hunt
DESCRIPTION:Treasure Hunt at Costanoa! Bring the whole family to search for
  treasure! We’ll have drinks for purchase and everything you need to hunt
  for treasure! Bring your riddle solving skills and shoes for walking aroun
 d the property.  TIME:  6 pm WHERE: Activities Pod AGES:  All ageas COST
 : Free for registered[..]\nhttps://www.costanoa.com/blog/events/family-trea
 sure-hunt/
URL:https://www.costanoa.com/blog/events/family-treasure-hunt/
END:VEVENT
END:VCALENDAR