BEGIN:VCALENDAR
VERSION:2.0
PRODID:-//eventon.com NONSGML v1.0//EN
CALSCALE:GREGORIAN
METHOD:PUBLISH
BEGIN:VEVENT
UID:69e4da9fedac8
DTSTAMP:20260419T133735Z
DTSTART:20240505T180000Z
DTEND:20240505T193000Z
LOCATION:Activities at Costanoa 2001 Rossi Road
SUMMARY:Cinco de Mayo Ceramic Piñatas
DESCRIPTION:Cinco de Mayo Ceramic Piñatas Join us at the Activities Pod to
  decorate a cute and festive Cinco de Mayo keepsake. Olé! TIME: 11:00 am W
 HERE: Activities Pod (weather permitting) AGES:  Fun for all ages COST:  
 $15\nhttps://www.costanoa.com/blog/events/cinco-de-mayo-ceramic-pinatas/
URL:https://www.costanoa.com/blog/events/cinco-de-mayo-ceramic-pinatas/
END:VEVENT
END:VCALENDAR