BEGIN:VCALENDAR
VERSION:2.0
PRODID:-//eventon.com NONSGML v1.0//EN
CALSCALE:GREGORIAN
METHOD:PUBLISH
BEGIN:VEVENT
UID:69e8121332467
DTSTAMP:20260422T001059Z
DTSTART:20240713T230000Z
DTEND:20240714T000000Z
LOCATION:Activities at Costanoa 2001 Rossi Road
SUMMARY:GEODE CRACKING AND GEM SLUICE
DESCRIPTION:Geode Cracking and Gem Sluice Come join us to pan for fossils\,
   crystals and more! Taking pride in local fame\,  we took panning for gold
  and put our own Costanoa twist on it!  TIME:  4:00pm WHERE: Activities P
 od (weather permitting) AGES:  All ages COST:  Varies &nbsp;\nhttps://www
 .costanoa.com/blog/events/geode-cracking-and-gem-sluice/var/ri-8.l-L1
URL:https://www.costanoa.com/blog/events/geode-cracking-and-gem-sluice/var/ri-8.l-L1
END:VEVENT
END:VCALENDAR