BEGIN:VCALENDAR
VERSION:2.0
PRODID:-//eventon.com NONSGML v1.0//EN
CALSCALE:GREGORIAN
METHOD:PUBLISH
BEGIN:VEVENT
UID:69e5f465cff36
DTSTAMP:20260420T093949Z
DTSTART:20240526T033000Z
DTEND:20240526T040000Z
LOCATION:Cascade Firepit 2001 Rossi Road
SUMMARY:Naked Eye Stargazing with Cosmic Joe
DESCRIPTION:Naked Eye Stargazing with Cosmic Joe Learn about everything und
 er the stars with former NASA Ames Researcher Joe Jordan. We are so pleased
  and honored to have Joe for Stargazing at Costanoa. Joe took part in the s
 tudies that led to the rescue of earth’s stratospheric ozone layer. Joe w
 ill[..]\nhttps://www.costanoa.com/blog/events/naked-eye-stargazing-with-cos
 mic-joe-12/
URL:https://www.costanoa.com/blog/events/naked-eye-stargazing-with-cosmic-joe-12/
END:VEVENT
END:VCALENDAR