BEGIN:VCALENDAR
VERSION:2.0
PRODID:-//eventon.com NONSGML v1.0//EN
CALSCALE:GREGORIAN
METHOD:PUBLISH
BEGIN:VEVENT
UID:69e6092fca7a8
DTSTAMP:20260420T110831Z
DTSTART:20240629T013000Z
DTEND:20240629T030000Z
LOCATION:Activities at Costanoa 2001 Rossi Road
SUMMARY:TACOS\,  TEQUILA & TRIVIA
DESCRIPTION:TACOS\,  TEQUILA &amp; TRIVIA Join us at Pine Tent for some del
 icious tacos\,  fantastic tequila mixed drinks\,  and brain teasing trivia.
  Prizes for the most correct answers!  TIME:  6:30pm WHERE: Pine Tent (we
 ather permitting) AGES:  All ages &nbsp;\nhttps://www.costanoa.com/blog/ev
 ents/tacos-tequila-trivia/
URL:https://www.costanoa.com/blog/events/tacos-tequila-trivia/
END:VEVENT
END:VCALENDAR