BEGIN:VCALENDAR
VERSION:2.0
PRODID:-//eventon.com NONSGML v1.0//EN
CALSCALE:GREGORIAN
METHOD:PUBLISH
BEGIN:VEVENT
UID:69e89d00b5d9e
DTSTAMP:20260422T100344Z
DTSTART:20241013T223000Z
DTEND:20241014T000000Z
LOCATION:KOA Kiosk 2001 Rossi Road
SUMMARY:Rainbow Catchers (Take-home Kit)
DESCRIPTION:Rainbow Catcher Kit Create your very own rainbow catcher\,  a f
 un craft with beads and sunlight as your canvas! This is one of our most po
 pular workshop for kids. Please note: this is a self-guided craft kit that 
 guests can complete at their accommodation\,  at a picnic table in the[..]\
 nhttps://www.costanoa.com/blog/events/rainbow-catchers-7/var/ri-2.l-L1
URL:https://www.costanoa.com/blog/events/rainbow-catchers-7/var/ri-2.l-L1
END:VEVENT
END:VCALENDAR