BEGIN:VCALENDAR
VERSION:2.0
PRODID:-//eventon.com NONSGML v1.0//EN
CALSCALE:GREGORIAN
METHOD:PUBLISH
BEGIN:VEVENT
UID:69e9de2d20d44
DTSTAMP:20260423T085405Z
DTSTART:20241019T223000Z
DTEND:20241019T233000Z
LOCATION:Activities at Costanoa 2001 Rossi Road
SUMMARY:"Ghostanoa" RV SITE DECORATING CONTEST
DESCRIPTION:RV SITE DECORATING CONTEST Spooky spiders? Witch&#8217;s lair? 
 Or maybe the happiest of pumpkins and harvest fare! Decorate your RV site t
 o celebrate GHOSTANOA for your chance to win a prize for the best Halloween
  decorations. Let us know when you check in at the KOA Kiosk if you are[..]
 \nhttps://www.costanoa.com/events/ghostanoa-rv-site-decorating-contest/var/
 ri-2.l-L1
URL:https://www.costanoa.com/events/ghostanoa-rv-site-decorating-contest/var/ri-2.l-L1
END:VEVENT
END:VCALENDAR