BEGIN:VCALENDAR
VERSION:2.0
PRODID:-//eventon.com NONSGML v1.0//EN
CALSCALE:GREGORIAN
METHOD:PUBLISH
BEGIN:VEVENT
UID:69e5f533b5b08
DTSTAMP:20260420T094315Z
DTSTART:20241005T193000Z
DTEND:20241005T200000Z
LOCATION:Costanoa 2001 Rossi Road
SUMMARY:TRICK-OR-TREAT BAG DECORATING
DESCRIPTION:Decorate Your Trick-or-Treat Bag! Get crafty at the Activities 
 Pod to personalize your candy bag before heading out to trick-or-treat on p
 roperty! TIME:  12:30 pm WHERE: Activities Pod AGES:  All ages COST: Free
 \nhttps://www.costanoa.com/blog/events/trick-or-treat-bag-decorating/
URL:https://www.costanoa.com/blog/events/trick-or-treat-bag-decorating/
END:VEVENT
END:VCALENDAR